Workbook

Sheet Reports
A1: Recent Work: | B1: Books Started | C1: Books Finished | D1: Works Started | E1: Works Finished | F1: Words Written (Fiction) | G1: Words Written (Non-Fiction) | H1: Words Written (Total)
A2: Last Week | B2: =COUNTIF(Reading!A2:A10000, ">="&(TODAY()-7)) -> 0 | C2: =COUNTIF(Reading!G2:G10000, ">="&(TODAY()-7)) -> 0 | D2: =COUNTIF(Writing!A2:A10000, ">="&(TODAY()-7)) -> 0 | E2: =COUNTIF(Writing!A2:A10000, ">="&(TODAY()-7)) -> 0 | F2: =SUM('Writing (Volume)'!B2:B8) -> 0 | G2: =SUM('Writing (Volume)'!C2:C8) -> 0 | H2: =SUM('Writing (Volume)'!D2:D8) -> 0
A3: Last Month | B3: =COUNTIF(Reading!A2:A10000, ">="&(TODAY()-30)) -> 0 | C3: =COUNTIF(Reading!G2:G10000, ">="&(TODAY()-30)) -> 0 | D3: =COUNTIF(Writing!A2:A10000, ">="&(TODAY()-30)) -> 0 | E3: =COUNTIF(Writing!E2:E10000, ">="&(TODAY()-30)) -> 0 | F3: =SUM('Writing (Volume)'!B2:B31) -> 0 | G3: =SUM('Writing (Volume)'!C2:C31) -> 0 | H3: =SUM('Writing (Volume)'!D2:D31) -> 0
A4: Last 3 Months | B4: =COUNTIF(Reading!A2:A10000, ">="&(TODAY()-90)) -> 0 | C4: =COUNTIF(Reading!G2:G10000, ">="&(TODAY()-90)) -> 0 | D4: =COUNTIF(Writing!A2:A10000, ">="&(TODAY()-90)) -> 0 | E4: =COUNTIF(Writing!E2:E10000, ">="&(TODAY()-90)) -> 0 | F4: =SUM('Writing (Volume)'!B2:B91) -> 0 | G4: =SUM('Writing (Volume)'!C2:C91) -> 0 | H4: =SUM('Writing (Volume)'!D2:D91) -> 0
A5: Last 6 Months | B5: =COUNTIF(Reading!A2:A10000, ">="&(TODAY()-180)) -> 0 | C5: =COUNTIF(Reading!G2:G10000, ">="&(TODAY()-180)) -> 0 | D5: =COUNTIF(Writing!A2:A10000, ">="&(TODAY()-180)) -> 0 | E5: =COUNTIF(Writing!E2:E10000, ">="&(TODAY()-180)) -> 0 | F5: =SUM('Writing (Volume)'!B2:B181) -> 0 | G5: =SUM('Writing (Volume)'!C2:C181) -> 0 | H5: =SUM('Writing (Volume)'!D2:D181) -> 0
A6: Last Year | B6: =COUNTIF(Reading!A2:A10000, ">="&(TODAY()-365)) -> 0 | C6: =COUNTIF(Reading!G2:G10000, ">="&(TODAY()-365)) -> 0 | D6: =COUNTIF(Writing!A2:A10000, ">="&(TODAY()-365)) -> 0 | E6: =COUNTIF(Writing!E2:E10000, ">="&(TODAY()-365)) -> 0 | F6: =SUM('Writing (Volume)'!B2:B366) -> 0 | G6: =SUM('Writing (Volume)'!C2:C366) -> 0 | H6: =SUM('Writing (Volume)'!D2:D366) -> 0
A7: Deck Life | B7: =COUNTIF(Reading!A2:A10000, "<="&(TODAY())) -> 0 | C7: =COUNTIF(Reading!G2:G10000, "<="&(TODAY())) -> 0 | D7: =COUNTIF(Writing!A2:A10000, "<="&(TODAY())) -> 0 | E7: =COUNTIF(Writing!E2:E10000,"<="&(TODAY())) -> 0 | F7: =SUM('Writing (Volume)'!B2:B10000) -> 0 | G7: =SUM('Writing (Volume)'!C2:C10000) -> 0 | H7: =SUM('Writing (Volume)'!D2:D10000) -> 0
A9: Averages (Per Week) | F9: (Per Day)
A10: Last Week | B10: =(B2) -> 0 | C10: =(C2) -> 0 | D10: =(D2) -> 0 | E10: =(E2) -> 0 | F10: =F2/7 -> 0 | G10: =G2/7 -> 0 | H10: =H2/7 -> 0
A11: Last Month | B11: =B3/30*7 -> 0 | C11: =C3/30*7 -> 0 | D11: =D3/30*7 -> 0 | E11: =E3/30*7 -> 0 | F11: =F3/30 -> 0 | G11: =G3/30 -> 0 | H11: =H3/30 -> 0
A12: Last 3 Months | B12: =B4/90*7 -> 0 | C12: =C4/90*7 -> 0 | D12: =D4/90*7 -> 0 | E12: =E4/90*7 -> 0 | F12: =F4/90 -> 0 | G12: =G4/90 -> 0 | H12: =H4/90 -> 0
A13: Last 6 Months | B13: =B5/180*7 -> 0 | C13: =C5/180*7 -> 0 | D13: =D5/180*7 -> 0 | E13: =E5/180*7 -> 0 | F13: =F5/180 -> 0 | G13: =G5/180 -> 0 | H13: =H5/180 -> 0
A14: Last Year | B14: =B6/365*7 -> 0 | C14: =C6/365*7 -> 0 | D14: =D6/365*7 -> 0 | E14: =E6/365*7 -> 0 | F14: =F6/365 -> 0 | G14: =G6/365 -> 0 | H14: =H6/365 -> 0

Sheet Reading
A1: Date Started | B1: Book Name | C1: Author | D1: Type | E1: Genre | F1: Language | G1: Date Finished

Sheet Writing
A1: Date Started | B1: Article/Story Name | C1: Type | D1: Genre | E1: Date Finished | F1: Final Word Count

Sheet Writing (Volume)
A1: Date | B1: Fiction Written | C1: Non-Fiction Written | D1: Total Written
